BEGIN:VCALENDAR
VERSION:2.0
PRODID:-//Il était une fois... Un Jardin Conté ! - ECPv6.15.20//NONSGML v1.0//EN
CALSCALE:GREGORIAN
METHOD:PUBLISH
X-WR-CALNAME:Il était une fois... Un Jardin Conté !
X-ORIGINAL-URL:https://unjardin.net
X-WR-CALDESC:Évènements pour Il était une fois... Un Jardin Conté !
REFRESH-INTERVAL;VALUE=DURATION:PT1H
X-Robots-Tag:noindex
X-PUBLISHED-TTL:PT1H
BEGIN:VTIMEZONE
TZID:Europe/Paris
BEGIN:DAYLIGHT
TZOFFSETFROM:+0100
TZOFFSETTO:+0200
TZNAME:CEST
DTSTART:20240331T010000
END:DAYLIGHT
BEGIN:STANDARD
TZOFFSETFROM:+0200
TZOFFSETTO:+0100
TZNAME:CET
DTSTART:20241027T010000
END:STANDARD
BEGIN:DAYLIGHT
TZOFFSETFROM:+0100
TZOFFSETTO:+0200
TZNAME:CEST
DTSTART:20250330T010000
END:DAYLIGHT
BEGIN:STANDARD
TZOFFSETFROM:+0200
TZOFFSETTO:+0100
TZNAME:CET
DTSTART:20251026T010000
END:STANDARD
BEGIN:DAYLIGHT
TZOFFSETFROM:+0100
TZOFFSETTO:+0200
TZNAME:CEST
DTSTART:20260329T010000
END:DAYLIGHT
BEGIN:STANDARD
TZOFFSETFROM:+0200
TZOFFSETTO:+0100
TZNAME:CET
DTSTART:20261025T010000
END:STANDARD
END:VTIMEZONE
BEGIN:VEVENT
DTSTART;TZID=Europe/Paris:20250920T140000
DTEND;TZID=Europe/Paris:20250920T160000
DTSTAMP:20260422T142246
CREATED:20250407T155434Z
LAST-MODIFIED:20250407T155436Z
UID:1071-1758376800-1758384000@unjardin.net
SUMMARY:Formation : Gérer les espaces verts de manière différenciée
DESCRIPTION:Lieu: Au jardin conté lieu-dit Noël 15290 La Ségalassière \n\n\n\nPublic : Adultes \n\n\n\nTarif : gratuit \n\n\n\nIntervenante : Benoîte Favre \n\n\n\nDescriptif : réaliser le bon entretien au bon endroit\, favoriser la biodiversité\, \n\n\n\nréduire ou optimiser la gestion des déchets verts et le temps qui y est \n\n\n\nconsacré.
URL:https://unjardin.net/event/formation-gerer-les-espaces-verts-de-maniere-differenciee/
CATEGORIES:Formations
ATTACH;FMTTYPE=image/jpeg:https://unjardin.net/wp-content/uploads/2025/04/ESPACES-VERTS-2025.jpg
END:VEVENT
END:VCALENDAR