BEGIN:VCALENDAR
VERSION:2.0
PRODID:-//Il était une fois... Un Jardin Conté ! - ECPv6.15.20//NONSGML v1.0//EN
CALSCALE:GREGORIAN
METHOD:PUBLISH
X-ORIGINAL-URL:https://unjardin.net
X-WR-CALDESC:Évènements pour Il était une fois... Un Jardin Conté !
REFRESH-INTERVAL;VALUE=DURATION:PT1H
X-Robots-Tag:noindex
X-PUBLISHED-TTL:PT1H
BEGIN:VTIMEZONE
TZID:Europe/Paris
BEGIN:DAYLIGHT
TZOFFSETFROM:+0100
TZOFFSETTO:+0200
TZNAME:CEST
DTSTART:20240331T010000
END:DAYLIGHT
BEGIN:STANDARD
TZOFFSETFROM:+0200
TZOFFSETTO:+0100
TZNAME:CET
DTSTART:20241027T010000
END:STANDARD
BEGIN:DAYLIGHT
TZOFFSETFROM:+0100
TZOFFSETTO:+0200
TZNAME:CEST
DTSTART:20250330T010000
END:DAYLIGHT
BEGIN:STANDARD
TZOFFSETFROM:+0200
TZOFFSETTO:+0100
TZNAME:CET
DTSTART:20251026T010000
END:STANDARD
BEGIN:DAYLIGHT
TZOFFSETFROM:+0100
TZOFFSETTO:+0200
TZNAME:CEST
DTSTART:20260329T010000
END:DAYLIGHT
BEGIN:STANDARD
TZOFFSETFROM:+0200
TZOFFSETTO:+0100
TZNAME:CET
DTSTART:20261025T010000
END:STANDARD
END:VTIMEZONE
BEGIN:VEVENT
DTSTART;TZID=Europe/Paris:20250529T100000
DTEND;TZID=Europe/Paris:20250928T190000
DTSTAMP:20260421T134049
CREATED:20250407T115205Z
LAST-MODIFIED:20250529T091237Z
UID:1049-1748512800-1759086000@unjardin.net
SUMMARY:Événement : Ouverture du jardin
DESCRIPTION:
URL:https://unjardin.net/event/evenement-ouverture-du-jardin/
CATEGORIES:Événements
END:VEVENT
BEGIN:VEVENT
DTSTART;TZID=Europe/Paris:20250607T100000
DTEND;TZID=Europe/Paris:20250607T120000
DTSTAMP:20260421T134049
CREATED:20250407T120044Z
LAST-MODIFIED:20250407T120147Z
UID:1054-1749290400-1749297600@unjardin.net
SUMMARY:Rendez-vous au Jardin + Inauguration du 8ième jardin
DESCRIPTION:Lieu: Au jardin conté lieu-dit Noël 15290 La Ségalassière \n\n\n\nPublic : tout public \n\n\n\nDescriptif : comme chaque année\, Le Jardin Conté participe à l’événement national Rendez-vous au Jardin et ce sera l’occasion d’inaugurer notre 8ième espace “Le Jardin de la Guérisseuse”
URL:https://unjardin.net/event/rendez-vous-au-jardin-inauguration-du-8ieme-jardin/
CATEGORIES:Événements
ATTACH;FMTTYPE=image/jpeg:https://unjardin.net/wp-content/uploads/2025/04/RDV-au-jardin-2025.jpg
END:VEVENT
BEGIN:VEVENT
DTSTART;TZID=Europe/Paris:20250607T150000
DTEND;TZID=Europe/Paris:20250607T190000
DTSTAMP:20260421T134049
CREATED:20250407T120353Z
LAST-MODIFIED:20250407T120355Z
UID:1057-1749308400-1749322800@unjardin.net
SUMMARY:Rendez-vous au Jardin + Inauguration du 8ième jardin
DESCRIPTION:Lieu: Au jardin conté lieu-dit Noël 15290 La Ségalassière \n\n\n\nPublic : tout public \n\n\n\nDescriptif : comme chaque année\, Le Jardin Conté participe à l’événement national Rendez-vous au Jardin et ce sera l’occasion d’inaugurer notre 8ième espace “Le Jardin de la Guérisseuse”
URL:https://unjardin.net/event/rendez-vous-au-jardin-inauguration-du-8ieme-jardin-2/
CATEGORIES:Événements
ATTACH;FMTTYPE=image/jpeg:https://unjardin.net/wp-content/uploads/2025/04/RDV-au-jardin-2025.jpg
END:VEVENT
BEGIN:VEVENT
DTSTART;TZID=Europe/Paris:20250608T100000
DTEND;TZID=Europe/Paris:20250608T120000
DTSTAMP:20260421T134049
CREATED:20250407T120520Z
LAST-MODIFIED:20250407T153608Z
UID:1059-1749376800-1749384000@unjardin.net
SUMMARY:Rendez-vous au Jardin + Inauguration du 8ième jardin
DESCRIPTION:Lieu: Au jardin conté lieu-dit Noël 15290 La Ségalassière \n\n\n\nPublic : tout public \n\n\n\nDescriptif : comme chaque année\, Le Jardin Conté participe à l’événement national Rendez-vous au Jardin et ce sera l’occasion d’inaugurer notre 8ième espace “Le Jardin de la Guérisseuse”
URL:https://unjardin.net/event/rendez-vous-au-jardin-inauguration-du-8ieme-jardin-3/
CATEGORIES:Événements
ATTACH;FMTTYPE=image/jpeg:https://unjardin.net/wp-content/uploads/2025/04/RDV-au-jardin-2025.jpg
END:VEVENT
BEGIN:VEVENT
DTSTART;TZID=Europe/Paris:20250608T150000
DTEND;TZID=Europe/Paris:20250608T190000
DTSTAMP:20260421T134049
CREATED:20250407T120638Z
LAST-MODIFIED:20250407T153708Z
UID:1061-1749394800-1749409200@unjardin.net
SUMMARY:Rendez-vous au Jardin + Inauguration du 8ième jardin
DESCRIPTION:Lieu: Au jardin conté lieu-dit Noël 15290 La Ségalassière \n\n\n\nPublic : tout public \n\n\n\nDescriptif : comme chaque année\, Le Jardin Conté participe à l’événement national Rendez-vous au Jardin et ce sera l’occasion d’inaugurer notre 8ième espace “Le Jardin de la Guérisseuse”
URL:https://unjardin.net/event/rendez-vous-au-jardin-inauguration-du-8ieme-jardin-4/
CATEGORIES:Événements
ATTACH;FMTTYPE=image/jpeg:https://unjardin.net/wp-content/uploads/2025/04/RDV-au-jardin-2025.jpg
END:VEVENT
BEGIN:VEVENT
DTSTART;TZID=Europe/Paris:20250629T090000
DTEND;TZID=Europe/Paris:20250629T170000
DTSTAMP:20260421T134049
CREATED:20250407T154726Z
LAST-MODIFIED:20250407T154736Z
UID:1063-1751187600-1751216400@unjardin.net
SUMMARY:Vide jardin\, vide grenier et bric à brac
DESCRIPTION:Lieu: Au jardin conté lieu-dit Noël 15290 La Ségalassière \n\n\n\nPublic : tout public …si vous souhaitez exposer nous contacter \n\n\n\nTarif spécial : 3 euros pour visiter le jardin.  Le vide grenier est en accès libre. \n\n\n\nDescriptif : venez chiner lors de notre vide jardin annuel !
URL:https://unjardin.net/event/vide-jardin-vide-grenier-et-bric-a-brac/
CATEGORIES:Événements
ATTACH;FMTTYPE=image/jpeg:https://unjardin.net/wp-content/uploads/2025/04/Vide-Jardin-2025.jpg
END:VEVENT
END:VCALENDAR